BEGIN:VCALENDAR
VERSION:2.0
PRODID:-//Elliott Data Systems, Inc. - ECPv6.15.18//NONSGML v1.0//EN
CALSCALE:GREGORIAN
METHOD:PUBLISH
X-WR-CALNAME:Elliott Data Systems, Inc.
X-ORIGINAL-URL:https://www.elliottdata.com
X-WR-CALDESC:Events for Elliott Data Systems, Inc.
REFRESH-INTERVAL;VALUE=DURATION:PT1H
X-Robots-Tag:noindex
X-PUBLISHED-TTL:PT1H
BEGIN:VTIMEZONE
TZID:UTC
BEGIN:STANDARD
TZOFFSETFROM:+0000
TZOFFSETTO:+0000
TZNAME:UTC
DTSTART:20250101T000000
END:STANDARD
END:VTIMEZONE
BEGIN:VEVENT
DTSTART;VALUE=DATE:20260428
DTEND;VALUE=DATE:20260501
DTSTAMP:20260424T094652
CREATED:20260325T213116Z
LAST-MODIFIED:20260325T213116Z
UID:5177-1777334400-1777593599@www.elliottdata.com
SUMMARY:EMAT Annual Conference
DESCRIPTION:Visit Elliott Data Systems at the upcoming EMAT Annual Conference! Stop by the Elliott exhibit and meet with Martea Jackson to view and discuss identification\, security and accountability solutions and learn how these tools will benefit your agency or department. \n1-888-345-8511 \nwww.elliottdata.com
URL:https://www.elliottdata.com/event/emat-annual-conference/
LOCATION:Murfreesboro\, TN
CATEGORIES:Emergency Response,Identity,Security
ATTACH;FMTTYPE=image/png:https://www.elliottdata.com/wp-content/uploads/2026/03/image0018.png
END:VEVENT
END:VCALENDAR