BEGIN:VCALENDAR
VERSION:2.0
PRODID:-//Mobile Solutions - ECPv6.15.18//NONSGML v1.0//EN
CALSCALE:GREGORIAN
METHOD:PUBLISH
X-ORIGINAL-URL:https://www.elliottdata.com/mobile-solutions
X-WR-CALDESC:Events for Mobile Solutions
REFRESH-INTERVAL;VALUE=DURATION:PT1H
X-Robots-Tag:noindex
X-PUBLISHED-TTL:PT1H
BEGIN:VTIMEZONE
TZID:UTC
BEGIN:STANDARD
TZOFFSETFROM:+0000
TZOFFSETTO:+0000
TZNAME:UTC
DTSTART:20230101T000000
END:STANDARD
END:VTIMEZONE
BEGIN:VEVENT
DTSTART;VALUE=DATE:20240304
DTEND;VALUE=DATE:20240309
DTSTAMP:20260419T131455
CREATED:20240227T154738Z
LAST-MODIFIED:20240503T045255Z
UID:925-1709510400-1709942399@www.elliottdata.com
SUMMARY:2024 OEMA Conference
DESCRIPTION:Visit Elliott Data Systems at the 2024 Oklahoma Emergency Management Conference in Durant\, OK March 4-8\, 2024. Stop by Elliott’s Mobile Solutions booth to view the latest identification and accountability tracking solutions such as emergency event manager\, asset manager\, mobile ID\, validation QR\, and more and find out how each will benefit your department or agency! Contact Elliott if you’d like to schedule time at the booth to share your department needs with an Elliott Mobile Solutions National Sales Representative\, Randy Lay rlay@elliottdata.com (618) 530-1333 www.elliottmobilesolutions.com.
URL:https://www.elliottdata.com/mobile-solutions/event/2024-oema-conference/
LOCATION:Durant\, OK
CATEGORIES:Emergency Response
ATTACH;FMTTYPE=image/jpeg:https://www.elliottdata.com/mobile-solutions/wp-content/uploads/sites/6/2024/02/Mobile-Solutions-Logo.jpg
END:VEVENT
BEGIN:VEVENT
DTSTART;VALUE=DATE:20240325
DTEND;VALUE=DATE:20240327
DTSTAMP:20260419T131455
CREATED:20240227T155439Z
LAST-MODIFIED:20250821T064421Z
UID:927-1711324800-1711497599@www.elliottdata.com
SUMMARY:2024 ILEAS Annual Conference
DESCRIPTION:Visit Elliott Data Systems at the 2024 ILEAS Annual Conference in Champaign\, IL March 25-26\, 2024. Stop by Elliott’s Mobile Solutions booth to view the latest identification and accountability tracking solutions such as emergency event manager\, asset manager\, mobile ID\, and more and find out how each will benefit your department or agency! Contact Elliott if you’d like to schedule time at the booth to share your department needs with an Elliott Mobile Solutions National Sales Representative\, Randy Lay rlay@elliottdata.com (618) 530-1333 www.elliottmobilesolutions.com.
URL:https://www.elliottdata.com/mobile-solutions/event/2024-ileas-annual-conference/
LOCATION:ILEAS Annual Conference in Champaign\, IL
CATEGORIES:Emergency Response
ATTACH;FMTTYPE=image/jpeg:https://www.elliottdata.com/mobile-solutions/wp-content/uploads/sites/6/2024/02/Mobile-Solutions-Logo.jpg
END:VEVENT
END:VCALENDAR